BEGIN:VCALENDAR
VERSION:2.0
PRODID:-//InvisionCommunity Events 5.0.18//EN
METHOD:PUBLISH
CALSCALE:GREGORIAN
REFRESH-INTERVAL:PT15M
X-PUBLISHED-TTL:PT15M
X-WR-CALNAME:Calendario Eventi
NAME:Calendario Eventi
BEGIN:VTIMEZONE
TZID:Europe/London
TZURL:https://tzurl.org/zoneinfo/Europe/London
X-LIC-LOCATION:Europe/London
BEGIN:DAYLIGHT
TZOFFSETFROM:+0000
TZOFFSETTO:+0100
TZNAME:BST
DTSTART:20080330T020000Z
RRULE:FREQ=YEARLY;BYMONTH=3;BYDAY=-1SU
END:DAYLIGHT
BEGIN:STANDARD
TZOFFSETFROM:+0100
TZOFFSETTO:+0000
TZNAME:GMT
DTSTART:20081026T020000Z
RRULE:FREQ=YEARLY;BYMONTH=10;BYDAY=-1SU
END:STANDARD
END:VTIMEZONE
BEGIN:VEVENT
SUMMARY:Adunanza
DTSTAMP:20080730T091231Z
SEQUENCE:0
UID:93-2-6d0be903d083a79e91b406a9151ff9ac@www.dragonslair.it
ORGANIZER;CN="Baronts":segreteria@dragonslair.it
DESCRIPTION:7 giorni di gioco di ruolo dal vivo\, l'evento più grande e
	 più lungo che si realizza in Italia.\n\n\nMaggiori info su www.grvitalia
	.net\n
DTSTART:20080803T110000Z
DTEND:20080809T173000Z
END:VEVENT
END:VCALENDAR
