BEGIN:VCALENDAR
VERSION:2.0
PRODID:-//InvisionCommunity Events 5.0.18//EN
METHOD:PUBLISH
CALSCALE:GREGORIAN
REFRESH-INTERVAL:PT15M
X-PUBLISHED-TTL:PT15M
X-WR-CALNAME:Calendario Eventi
NAME:Calendario Eventi
BEGIN:VTIMEZONE
TZID:Europe/London
TZURL:https://tzurl.org/zoneinfo/Europe/London
X-LIC-LOCATION:Europe/London
BEGIN:DAYLIGHT
TZOFFSETFROM:+0000
TZOFFSETTO:+0100
TZNAME:BST
DTSTART:20070325T020000Z
RRULE:FREQ=YEARLY;BYMONTH=3;BYDAY=-1SU
END:DAYLIGHT
BEGIN:STANDARD
TZOFFSETFROM:+0100
TZOFFSETTO:+0000
TZNAME:GMT
DTSTART:20071028T020000Z
RRULE:FREQ=YEARLY;BYMONTH=10;BYDAY=-1SU
END:STANDARD
END:VTIMEZONE
BEGIN:VEVENT
SUMMARY:Giocaroma 2007
DTSTAMP:20070214T133224Z
SEQUENCE:0
UID:52-2-6d0be903d083a79e91b406a9151ff9ac@www.dragonslair.it
ORGANIZER;CN="Samirah":segreteria@dragonslair.it
DESCRIPTION:GiocaRoma 2007\n\n\n\"Il dado e' tratto!\"\n\n\n\n\n\nTennis
	 Club Garden (via delle Capannelle 127)\, Roma\n\n\n\n\n\nPer maggiori det
	tagli:\n\n\n\n\n\nhttp://www.giocaroma.it\n\n\n(il sito contiene anche uti
	li informazioni \"di servizio\"\, in particolare consigli per il pernottam
	ento per i visitatori non romani)\n\n\n\n\n\ninfo@giocaroma.it\n
DTSTART:20070303T090000Z
DTEND:20070304T180000Z
END:VEVENT
END:VCALENDAR
