BEGIN:VCALENDAR
VERSION:2.0
PRODID:-//InvisionCommunity Events 5.0.18//EN
METHOD:PUBLISH
CALSCALE:GREGORIAN
REFRESH-INTERVAL:PT15M
X-PUBLISHED-TTL:PT15M
X-WR-CALNAME:Calendario Eventi
NAME:Calendario Eventi
BEGIN:VTIMEZONE
TZID:Europe/London
TZURL:https://tzurl.org/zoneinfo/Europe/London
X-LIC-LOCATION:Europe/London
BEGIN:DAYLIGHT
TZOFFSETFROM:+0000
TZOFFSETTO:+0100
TZNAME:BST
DTSTART:20240331T020000Z
RRULE:FREQ=YEARLY;BYMONTH=3;BYDAY=-1SU
END:DAYLIGHT
BEGIN:STANDARD
TZOFFSETFROM:+0100
TZOFFSETTO:+0000
TZNAME:GMT
DTSTART:20241027T020000Z
RRULE:FREQ=YEARLY;BYMONTH=10;BYDAY=-1SU
END:STANDARD
END:VTIMEZONE
BEGIN:VEVENT
SUMMARY:Modena NERD 2024
DTSTAMP:20240717T071417Z
SEQUENCE:0
UID:450-2-6d0be903d083a79e91b406a9151ff9ac@www.dragonslair.it
ORGANIZER;CN="Graham_89":segreteria@dragonslair.it
DESCRIPTION:\n	Nei Giorni Sabato 7 e Domenica 8 Settembre torna il Moden
	a Nerd alla sua Ottava Edizione.\n\n	In questa nuova edizione sarà possib
	ile trovare:\n\n\n\n	\n		Talk e show dal vivo.\n	\n	\n		Oltre 70 fumettist
	i italiani e internazionali.\n	\n	\n		Mostra mercato a tema Comics\, Games
	 e Gadget.\n	\n	\n		Gare Cosplay.\n	\n	\n		Aree Mattoncini\, Board Games\,
	 Videogiochi\, Manga e Retrogaming.\n	\n\n\n\n	\n\n\n\n	L'evento si svolge
	rà nel quartiere fieristico di Modena\, raggiungibile dall’uscita Moden
	a Nord sull’autostrada A1.\n\n	Per quanto riguarda il prezzario per i Bi
	glietti d'Ingresso lascio di seguito un veloce schema...\n\n	...a cui va a
	ggiunto il prezzo del Parcheggio Visitatori di € 10\, nel caso in cui 
	foste in macchina.\n\n\n\n	Fino al 2 Settembre sarà possibile acquistare 
	i Biglietti Online ad un prezzo ridotto (+4% di Commissione):\n\n\n\n	\n		
	Ingresso Unico (un Giorno a Scelta): € 14\n	\n	\n		Abbonamento per Entr
	ambi i giorni: € 20\n	\n\n\n\n	Dal 3 Settembre e fino al Termine della 
	Manifestazione\, i Biglietti Online costeranno (+4% di Commissione):\n\n\n
	\n	\n		Ingresso Unico (un Giorno a Scelta): € 16\n	\n	\n		Abbonamento p
	er Entrambi i giorni: € 26\n	\n\n\n\n	Effettuando l'acquisto in Bigliet
	teria il giorno dell'evento o nei Negozi del circuito Vivaticket\, i prez
	zi sono i seguenti:\n\n\n\n	\n		Ingresso Unico (un Giorno a Scelta): € 
	16\n	\n	\n		Abbonamento per Entrambi i giorni: € 26\n	\n	\n		Ingresso R
	idotto (invalidi e militari o con tessere Conad): € 14\n	\n	\n		Ingress
	o Omaggio per Bambini fino a 6 anni e per disabili non autosufficienti a
	l 100% con accompagnatore.\n	\n\n\n\n	\n\n\n\n	Eventi da menzionare a tema
	 GDR non sono ancora riuscito a trovarne (aggiornerò se necessario).\n\n	
	Tuttavia posso segnalare che l'8 Settembre alle 17.00 ci sarà Giorgio Va
	nni in Concerto!\n\n\n\n	\n\n\n\n	Sito Internet: https://www.modenanerd.i
	t/\n\n	Pagina Facebook: https://www.facebook.com/modenanerd/\n\n
DTSTART;VALUE=DATE:20240907
DTEND;VALUE=DATE:20240909
END:VEVENT
END:VCALENDAR
