BEGIN:VCALENDAR
VERSION:2.0
PRODID:-//InvisionCommunity Events 5.0.18//EN
METHOD:PUBLISH
CALSCALE:GREGORIAN
REFRESH-INTERVAL:PT15M
X-PUBLISHED-TTL:PT15M
X-WR-CALNAME:Calendario Eventi
NAME:Calendario Eventi
BEGIN:VTIMEZONE
TZID:Europe/London
TZURL:https://tzurl.org/zoneinfo/Europe/London
X-LIC-LOCATION:Europe/London
BEGIN:DAYLIGHT
TZOFFSETFROM:+0000
TZOFFSETTO:+0100
TZNAME:BST
DTSTART:20240331T020000Z
RRULE:FREQ=YEARLY;BYMONTH=3;BYDAY=-1SU
END:DAYLIGHT
BEGIN:STANDARD
TZOFFSETFROM:+0100
TZOFFSETTO:+0000
TZNAME:GMT
DTSTART:20241027T020000Z
RRULE:FREQ=YEARLY;BYMONTH=10;BYDAY=-1SU
END:STANDARD
END:VTIMEZONE
BEGIN:VEVENT
SUMMARY:Oracon24
DTSTAMP:20240307T112842Z
SEQUENCE:0
UID:441-2-6d0be903d083a79e91b406a9151ff9ac@www.dragonslair.it
ORGANIZER;CN="Graham_89":segreteria@dragonslair.it
DESCRIPTION:\n	Dalla collaborazione di alcune realtà della zona\, Domen
	ica 10 Marzo 2024 si terrà la prima convention sul gioco di ruolo e da ta
	volo di Jerago con Orago.\n\n	Con l'obiettivo di Aggregazione\, Educazion
	e e Scoperta\, dalla mattina fino al tardo pomeriggio saranno organizzati 
	numerosi tavoli di gioco (da Dungeons &amp\; Dragons 5E a 7th Sea\, da 
	La Leggenda dei 5 Anelli a Lex Arcana ma non solo.. sicuramente troverete
	 un gioco che vi interessa provare nella lunga lista proposta). Le session
	i di gioco\, completamente gratuite (ad eccezione del Pranzo\, prenotabil
	e con anticipo via mail\, che può essere acquistato in loco) e rivolte a 
	tutti\, saranno suddivise in 2 Turni (10-13.30 e 14.30-18.00) senza bisog
	no di prenotazione (ci si può cominciare a candidare almeno quindici minu
	ti prima dell'inizio del turno).\n\n\n\n	Nel Box di seguito il programma n
	el dettaglio.\n\n\n\n	\n\n\n\n	Link al Programma dell'Evento: https://www
	.varesenews.it/2024/02/a-jerago-con-orago-arriva-oracon24-la-convention-de
	i-giochi-di-ruolo-e-da-tavolo/1857936/?fbclid=IwAR1EpOEoOw5B-3ZlLhBb_CwWbb
	tqdo50tyUyMubV-Mwx6HSgMMDe-eYamts\n\n
DTSTART:20240310T083000Z
DTEND:20240310T173000Z
END:VEVENT
END:VCALENDAR
