BEGIN:VCALENDAR
VERSION:2.0
PRODID:-//InvisionCommunity Events 5.0.18//EN
METHOD:PUBLISH
CALSCALE:GREGORIAN
REFRESH-INTERVAL:PT15M
X-PUBLISHED-TTL:PT15M
X-WR-CALNAME:Calendario Eventi
NAME:Calendario Eventi
BEGIN:VTIMEZONE
TZID:Europe/London
TZURL:https://tzurl.org/zoneinfo/Europe/London
X-LIC-LOCATION:Europe/London
BEGIN:DAYLIGHT
TZOFFSETFROM:+0000
TZOFFSETTO:+0100
TZNAME:BST
DTSTART:20220327T020000Z
RRULE:FREQ=YEARLY;BYMONTH=3;BYDAY=-1SU
END:DAYLIGHT
BEGIN:STANDARD
TZOFFSETFROM:+0100
TZOFFSETTO:+0000
TZNAME:GMT
DTSTART:20221030T020000Z
RRULE:FREQ=YEARLY;BYMONTH=10;BYDAY=-1SU
END:STANDARD
END:VTIMEZONE
BEGIN:VEVENT
SUMMARY:Salso Ludix
DTSTAMP:20221122T183440Z
SEQUENCE:0
UID:414-2-6d0be903d083a79e91b406a9151ff9ac@www.dragonslair.it
ORGANIZER;CN="Assalon":segreteria@dragonslair.it
DESCRIPTION:\n	Convention di 2 giorni alla sua prima edizione\, organizz
	ata nel bellissimo Palazzo dei Congressi di Salsomaggiore Terme (PR). Un s
	acco di tavoli dedicati ai gdr e ai gdt.\n\n\n\n	Ecco il link al sito uffi
	ciale: https://salsoludix.it/\n\n
DTSTART:20221203T080000Z
DTEND:20221204T180000Z
END:VEVENT
END:VCALENDAR
