BEGIN:VCALENDAR
VERSION:2.0
PRODID:-//InvisionCommunity Events 5.0.18//EN
METHOD:PUBLISH
CALSCALE:GREGORIAN
REFRESH-INTERVAL:PT15M
X-PUBLISHED-TTL:PT15M
X-WR-CALNAME:Calendario Eventi
NAME:Calendario Eventi
BEGIN:VTIMEZONE
TZID:Europe/London
TZURL:https://tzurl.org/zoneinfo/Europe/London
X-LIC-LOCATION:Europe/London
BEGIN:DAYLIGHT
TZOFFSETFROM:+0000
TZOFFSETTO:+0100
TZNAME:BST
DTSTART:20220327T020000Z
RRULE:FREQ=YEARLY;BYMONTH=3;BYDAY=-1SU
END:DAYLIGHT
BEGIN:STANDARD
TZOFFSETFROM:+0100
TZOFFSETTO:+0000
TZNAME:GMT
DTSTART:20221030T020000Z
RRULE:FREQ=YEARLY;BYMONTH=10;BYDAY=-1SU
END:STANDARD
END:VTIMEZONE
BEGIN:VEVENT
SUMMARY:TO Play
DTSTAMP:20220805T080747Z
SEQUENCE:0
UID:403-2-6d0be903d083a79e91b406a9151ff9ac@www.dragonslair.it
ORGANIZER;CN="Graham_89":segreteria@dragonslair.it
DESCRIPTION:\n	TO PLAY: LA FESTA DEL GIOCO DI RUOLO E DA TAVOLO\n\n\n\n	
	Il TO Play è una celebrazione del gioco di ruolo e da tavolo per gli appa
	ssionati di lungo corso e per i curiosi alle prime esperienze. Alla sua qu
	inta edizione\, al parco della Tesoriera della città di Torino\, la manif
	estazione ludica torinese dedicata ai giochi di ruolo e da tavolo\, gest
	ita da volontari appassionati\, completamente gratuita e rivolta a tutta l
	a cittadinanza\, vedrà decine di tavoli da gioco dove chiunque potrà tro
	vare emozioni\, divertimento e\, in fin dei conti\, un’avventura.\n\n\n\
	n	Dalla prima edizione del 2018 TO Play unisce Gioco di Ruolo\, Giochi da 
	Tavolo\, Giochi di Ruolo dal Vivo\, War Games e Cosplay\, ce n’è per tu
	tti! Infatti il gioco unisce\, insegna e apre la mente. TO Play si propone
	 di creare una rete di supporto e confronto tra le associazioni ludiche sp
	arpagliate sul territorio\, di dare la possibilità ai partecipanti di str
	ingere nuove amicizie\, di facilitare l’avvicinamento di principianti a 
	un mondo di divertimento intelligente\, c’è posto per tutti e il gioco 
	giusto per tutti.\n\n\n\n	Organizzato da Il FortunaDado\, un’associazio
	ne di gioco di ruolo nata nel 2017 a Torino\, ha l’obiettivo di promuove
	re il GdR e l’aggregazione\, organizzando eventi bimestrali in cui i par
	tecipanti prendono parte ad avventure di gioco di ruolo scritte dai narrat
	ori dell’associazione. Gli eventi sono gratuiti e adatti a tutti\, neofi
	ti o veterani\, allo scopo di far conoscere il GDR a quante più persone p
	ossibili e di condividerne la passione.\n\n\n\n	Per maggiori informazioni 
	è disponibile la mail \"ilfortunadado@gmail.com\"\n\n\n\n	3-4 SETTEMBRE A
	L PARCO DELLA TESORIERA\n\n\n\n	La manifestazione si terrà sabato 3 e dom
	enica 4 settembre al parco della Tesoriera di Torino\, in Corso Francia 18
	6/192\, ingresso principale.\n\n	Il parco della Tesoriera è comodamente c
	ollegato ai mezzi pubblici di Torino tramite la fermata della metropolitan
	a “Monte Grappa” e i pullman delle linee 1\, 36 e 101 su corso Francia
	 e la linea 71 su corso Monte Grappa.\n\n\n\n	\n\n\n\n	Sito Internet: htt
	ps://www.toplaytorino.it/index.php\n\n	Pagina FB: https://www.facebook.co
	m/toplaytorino/\n\n
DTSTART;VALUE=DATE:20220903
DTEND;VALUE=DATE:20220905
END:VEVENT
END:VCALENDAR
