BEGIN:VCALENDAR
VERSION:2.0
PRODID:-//InvisionCommunity Events 5.0.18//EN
METHOD:PUBLISH
CALSCALE:GREGORIAN
REFRESH-INTERVAL:PT15M
X-PUBLISHED-TTL:PT15M
X-WR-CALNAME:Calendario Eventi
NAME:Calendario Eventi
BEGIN:VTIMEZONE
TZID:Europe/London
TZURL:https://tzurl.org/zoneinfo/Europe/London
X-LIC-LOCATION:Europe/London
BEGIN:DAYLIGHT
TZOFFSETFROM:+0000
TZOFFSETTO:+0100
TZNAME:BST
DTSTART:20220327T020000Z
RRULE:FREQ=YEARLY;BYMONTH=3;BYDAY=-1SU
END:DAYLIGHT
BEGIN:STANDARD
TZOFFSETFROM:+0100
TZOFFSETTO:+0000
TZNAME:GMT
DTSTART:20221030T020000Z
RRULE:FREQ=YEARLY;BYMONTH=10;BYDAY=-1SU
END:STANDARD
END:VTIMEZONE
BEGIN:VEVENT
SUMMARY:PESCARA COMIX & GAMES
DTSTAMP:20220801T190307Z
SEQUENCE:0
UID:401-2-6d0be903d083a79e91b406a9151ff9ac@www.dragonslair.it
ORGANIZER;CN="aza":segreteria@dragonslair.it
DESCRIPTION:\n	Nel 2022 torna l’appuntamento con il Pescara Comix\, 
	l’evento internazionale dedicato al fumetto\, al cosplay\, al cinema e a
	l games. \n\n\n\n	Maggiori informazioni: https://www.pescaracomix.it/\n\
	n
DTSTART;VALUE=DATE:20220909
DTEND;VALUE=DATE:20220912
END:VEVENT
END:VCALENDAR
