BEGIN:VCALENDAR
VERSION:2.0
PRODID:-//InvisionCommunity Events 5.0.18//EN
METHOD:PUBLISH
CALSCALE:GREGORIAN
REFRESH-INTERVAL:PT15M
X-PUBLISHED-TTL:PT15M
X-WR-CALNAME:Calendario Eventi
NAME:Calendario Eventi
BEGIN:VTIMEZONE
TZID:Europe/London
TZURL:https://tzurl.org/zoneinfo/Europe/London
X-LIC-LOCATION:Europe/London
BEGIN:DAYLIGHT
TZOFFSETFROM:+0000
TZOFFSETTO:+0100
TZNAME:BST
DTSTART:20210328T020000Z
RRULE:FREQ=YEARLY;BYMONTH=3;BYDAY=-1SU
END:DAYLIGHT
BEGIN:STANDARD
TZOFFSETFROM:+0100
TZOFFSETTO:+0000
TZNAME:GMT
DTSTART:20211031T020000Z
RRULE:FREQ=YEARLY;BYMONTH=10;BYDAY=-1SU
END:STANDARD
END:VTIMEZONE
BEGIN:VEVENT
SUMMARY:Xmas Comics & Game
DTSTAMP:20211124T091128Z
SEQUENCE:0
UID:384-2-6d0be903d083a79e91b406a9151ff9ac@www.dragonslair.it
ORGANIZER;CN="aza":segreteria@dragonslair.it
DESCRIPTION:\n	Il Lingotto Fiere ospita Xmas Comics 2021\, giunto alla 
	settima edizione natalizia dell'appassionante mostra mercato del fumetto.\
	n\n\n\n	Una grande festa dedicata ai fumetti\, games\, videogames\, cospla
	y e youtubers.\n\n\n\n	L'appuntamento natalizio con la fiera del fumetto v
	edrà non solo espositori\, ma anche incontri con gli autori\, cosplay\, s
	filate\, un'area dedicata al gaming e ai videogames\, oltre ai popolarissi
	mi youtubers.\n\n\n\n	Maggiori informazioni.\n\n
DTSTART;VALUE=DATE:20211211
DTEND;VALUE=DATE:20211213
END:VEVENT
END:VCALENDAR
