BEGIN:VCALENDAR
VERSION:2.0
PRODID:-//InvisionCommunity Events 5.0.18//EN
METHOD:PUBLISH
CALSCALE:GREGORIAN
REFRESH-INTERVAL:PT15M
X-PUBLISHED-TTL:PT15M
X-WR-CALNAME:Calendario Eventi
NAME:Calendario Eventi
BEGIN:VTIMEZONE
TZID:Europe/London
TZURL:https://tzurl.org/zoneinfo/Europe/London
X-LIC-LOCATION:Europe/London
BEGIN:DAYLIGHT
TZOFFSETFROM:+0000
TZOFFSETTO:+0100
TZNAME:BST
DTSTART:20160327T020000Z
RRULE:FREQ=YEARLY;BYMONTH=3;BYDAY=-1SU
END:DAYLIGHT
BEGIN:STANDARD
TZOFFSETFROM:+0100
TZOFFSETTO:+0000
TZNAME:GMT
DTSTART:20161030T020000Z
RRULE:FREQ=YEARLY;BYMONTH=10;BYDAY=-1SU
END:STANDARD
END:VTIMEZONE
BEGIN:VEVENT
SUMMARY:Este in Gioco
DTSTAMP:20160501T082518Z
SEQUENCE:0
UID:155-2-6d0be903d083a79e91b406a9151ff9ac@www.dragonslair.it
ORGANIZER;CN="elamilmago":segreteria@dragonslair.it
DESCRIPTION:\n	Come ogni anno durante questo evento completamente GRATUI
	TO metteremo a disposizione la nostra ludoteca con più di 100 giochi disp
	onibili. I nostri soci saranno lieti di spiegarvi i giochi da tavolo che n
	on conoscete\, inoltre sarà possibile provare Giochi di ruolo come Pathfi
	nder\, Dungeon &amp\; Dragons\, Dungeon World e Savage World.\n\n\n\n	Iscr
	ivetevi al torneo di:\n\n\n\n\n		D&amp\;D 5a edizione\, Gli eretici di Luz
	zeno. Scarica:Promo-gli-eretici-di-luzzeno\n	\n	\n		Bang!\n	\n	\n		Perudo.
	\n	\n\n\n	Per iscrivervi ai tornei inviate una email a: info@ilsentierode
	idraghi.it\n\n\n\n	Sabato mattina si svolgerà l’evento The Canterbury 
	Games che coinvolgerà circa 100 studenti delle scuole superiori.\n	Verra
	nno recitati alcuni passi di letteratura inglese e in seguito gli studenti
	 giocheranno con giochi da tavolo attinenti ai passi recitati.\n	Evento ri
	proposto visto l’interesse dimostrato dalle scuole atestine.\n\n\n\n	Vis
	itate la pagine dell'evento sul sito web http://www.ilsentierodeidraghi.i
	t/wp/este-in-gioco-2016/\n\n\n\n	Oppure collegatevi alla nostra pagina Fac
	ebook: https://www.facebook.com/IlSentieroDeiDraghi/\n\n
DTSTART:20160514T120000Z
DTEND:20160514T170000Z
RRULE:FREQ=DAILY;INTERVAL=1;COUNT=1
END:VEVENT
END:VCALENDAR
