BEGIN:VCALENDAR
VERSION:2.0
PRODID:-//InvisionCommunity Events 5.0.18//EN
METHOD:PUBLISH
CALSCALE:GREGORIAN
REFRESH-INTERVAL:PT15M
X-PUBLISHED-TTL:PT15M
X-WR-CALNAME:Calendario Eventi
NAME:Calendario Eventi
BEGIN:VTIMEZONE
TZID:Europe/London
TZURL:https://tzurl.org/zoneinfo/Europe/London
X-LIC-LOCATION:Europe/London
BEGIN:DAYLIGHT
TZOFFSETFROM:+0000
TZOFFSETTO:+0100
TZNAME:BST
DTSTART:20140330T020000Z
RRULE:FREQ=YEARLY;BYMONTH=3;BYDAY=-1SU
END:DAYLIGHT
BEGIN:STANDARD
TZOFFSETFROM:+0100
TZOFFSETTO:+0000
TZNAME:GMT
DTSTART:20141026T020000Z
RRULE:FREQ=YEARLY;BYMONTH=10;BYDAY=-1SU
END:STANDARD
END:VTIMEZONE
BEGIN:VEVENT
SUMMARY:InterNosCon 2014
DTSTAMP:20140509T055822Z
SEQUENCE:0
UID:118-2-6d0be903d083a79e91b406a9151ff9ac@www.dragonslair.it
ORGANIZER;CN="Staff_Narrattiva":segreteria@dragonslair.it
DESCRIPTION:Rullino le trombe\, suonino i tamburi! La INC scalda i motor
	i.\n\nLe  iscrizioni sono già aperte! Nell’incantevole cornice di Berti
	noro\, ci  aspettano due giorni (o tre\, per chi decide di raggiungerci il
	 venerdì)  di grandi giochi\, buon cibo e ottimo vino.\n\n\nSenza contare
	 che ci sarà la possibilità di incontrare [B]Sage LaTorra[/B] e [B]Adam 
	Koebel\,[/B] gli autori del gioco più “caldo” del momento. Stiamo par
	lando proprio di quel [URL=\"http://www.narrattiva.it/giochi/dungeon-world
	\"][B]Dungeon World[/B][/URL] che ha sbancato sia Lucca Comics &amp\; Game
	s 2013 che Ululé (raccogliendo più di undici volte la cifra minima richi
	esta).\n\n\nRicapitoliamo le date importanti:\n\n[B]- 12 Maggio[/B] è il 
	limite per avere la maglietta ricordo nella taglia desiderata\n\n[B]- 15 M
	aggio[/B]  è il limite per presentare eventi e avere il nome nei “cre
	dits” della  maglietta e del libro\; gli iscritti fra il 12 ed il 15 pot
	rebbero  comunque avere la maglietta ma in taglia XL senza possibilità di
	 scelta\n\n\nPer iscriversi: [URL]http://2014.internoscon.it/iscriversi/[/
	URL]\n\nPer proporre un evento: [URL]http://2014.internoscon.it/proporre-u
	n-evento/[/URL]\n\nPer inviti ed altre informazioni: [URL]http://www.gente
	chegioca.it/smf/index.php/board\,199.0.html[/URL]
DTSTART:20140523T133000Z
DTEND:20140525T180000Z
END:VEVENT
END:VCALENDAR
